BEGIN:VCALENDAR
VERSION:2.0
PRODID:-//Daar brandt nog licht - ECPv6.15.13//NONSGML v1.0//EN
CALSCALE:GREGORIAN
METHOD:PUBLISH
X-ORIGINAL-URL:https://daar-brandt-nog-licht.nl
X-WR-CALDESC:Evenementen voor Daar brandt nog licht
REFRESH-INTERVAL;VALUE=DURATION:PT1H
X-Robots-Tag:noindex
X-PUBLISHED-TTL:PT1H
BEGIN:VTIMEZONE
TZID:UTC
BEGIN:STANDARD
TZOFFSETFROM:+0000
TZOFFSETTO:+0000
TZNAME:UTC
DTSTART:20250101T000000
END:STANDARD
END:VTIMEZONE
BEGIN:VEVENT
DTSTART;TZID=UTC:20260519T130000
DTEND;TZID=UTC:20260519T160000
DTSTAMP:20260419T072418
CREATED:20260327T090820Z
LAST-MODIFIED:20260327T090820Z
UID:423-1779195600-1779206400@daar-brandt-nog-licht.nl
SUMMARY:AI Inspiratiesessie bij Hoppenbrouwers
DESCRIPTION:Kom naar onze inspiratiesessie en ontdek: \nDe installateur van de toekomst staat midden in een wereld die snel verandert. Verscherpte wet- en regelgeving en de voortdurende verduurzamingsslag vragen om nieuwe kennis\, nieuwe vaardigheden en slimme oplossingen. \nHoppenbrouwers neemt je mee in deze transitie: als partner die laat zien hoe innovatieve technieken en doordachte keuzes bijdragen aan een duurzame leefomgeving. Met duidelijke duurzaamheidsambities en een vooruitstrevende blik beweegt Hoppenbrouwers mee in een dynamische energiewereld. Dit helpt installateurs klaar te staan voor de wereld van morgen! \nDoe mee\, laat je inspireren en praat mee over deze onderwerpen! \nWees er snel bij: vol = vol! Er zijn slechts 20 plekken beschikbaar. \nSchakel JavaScript in je browser in om dit formulier in te vullen.Schakel JavaScript in je browser in om dit formulier in te vullen.		\n			voor me licht\n			\n		\n		Naam *VoornaamAchternaamEmail *Organisatie *Ik meld me aan voor de nieuwsbrief van Daar brandt nog lichtJaAanmelden
URL:https://daar-brandt-nog-licht.nl/event/ai-inspiratiesessie-bij-hoppenbrouwers/
LOCATION:Hoppenbrouwers\,  Udenhout\, Handelsweg 5\, Udenhout\, 5071NT\, Netherlands
END:VEVENT
END:VCALENDAR