BEGIN:VCALENDAR
VERSION:2.0
PRODID:-//Daar brandt nog licht - ECPv6.15.13//NONSGML v1.0//EN
CALSCALE:GREGORIAN
METHOD:PUBLISH
X-WR-CALNAME:Daar brandt nog licht
X-ORIGINAL-URL:https://daar-brandt-nog-licht.nl
X-WR-CALDESC:Evenementen voor Daar brandt nog licht
REFRESH-INTERVAL;VALUE=DURATION:PT1H
X-Robots-Tag:noindex
X-PUBLISHED-TTL:PT1H
BEGIN:VTIMEZONE
TZID:Europe/Paris
BEGIN:DAYLIGHT
TZOFFSETFROM:+0100
TZOFFSETTO:+0200
TZNAME:CEST
DTSTART:20250330T010000
END:DAYLIGHT
BEGIN:STANDARD
TZOFFSETFROM:+0200
TZOFFSETTO:+0100
TZNAME:CET
DTSTART:20251026T010000
END:STANDARD
BEGIN:DAYLIGHT
TZOFFSETFROM:+0100
TZOFFSETTO:+0200
TZNAME:CEST
DTSTART:20260329T010000
END:DAYLIGHT
BEGIN:STANDARD
TZOFFSETFROM:+0200
TZOFFSETTO:+0100
TZNAME:CET
DTSTART:20261025T010000
END:STANDARD
BEGIN:DAYLIGHT
TZOFFSETFROM:+0100
TZOFFSETTO:+0200
TZNAME:CEST
DTSTART:20270328T010000
END:DAYLIGHT
BEGIN:STANDARD
TZOFFSETFROM:+0200
TZOFFSETTO:+0100
TZNAME:CET
DTSTART:20271031T010000
END:STANDARD
END:VTIMEZONE
BEGIN:VEVENT
DTSTART;TZID=Europe/Paris:20260325T100000
DTEND;TZID=Europe/Paris:20260325T123000
DTSTAMP:20260421T010202
CREATED:20260106T113421Z
LAST-MODIFIED:20260119T104624Z
UID:360-1774432800-1774441800@daar-brandt-nog-licht.nl
SUMMARY:Inspiratiesessie bij SPIE
DESCRIPTION:Kom naar onze inspiratiesessie en ontdek drie belangrijke thema’s: \n\n\nInstallatie: Waarom is installatietechniek zo belangrijk? We laten zien wat het betekent en waarom het onmisbaar is. \n\n\nDuurzaamheid: Hoe kijkt SPIE naar duurzaamheid? En hoe bereiden we jongeren voor op een duurzame toekomst? \n\n\nVeiligheid: Veilig werken is overal belangrijk. Hoe zorgen we dat iedereen goed voorbereid is? \n\n\nDoe mee\, laat je inspireren en praat mee over deze onderwerpen! \n\n\n\nHelaas is deze training volgeboekt! \nMocht je op de wachtlijst willen kun je Sander van Mol contacteren: svmol@yonder.nl.
URL:https://daar-brandt-nog-licht.nl/event/inspiratiesessie-bij-spie/
LOCATION:Spie\, Ekkersrijt 5206\, Son\, 5692 EG\, Netherlands
END:VEVENT
END:VCALENDAR