BEGIN:VCALENDAR
VERSION:2.0
PRODID:-//Daar brandt nog licht - ECPv6.15.13//NONSGML v1.0//EN
CALSCALE:GREGORIAN
METHOD:PUBLISH
X-WR-CALNAME:Daar brandt nog licht
X-ORIGINAL-URL:https://daar-brandt-nog-licht.nl
X-WR-CALDESC:Evenementen voor Daar brandt nog licht
REFRESH-INTERVAL;VALUE=DURATION:PT1H
X-Robots-Tag:noindex
X-PUBLISHED-TTL:PT1H
BEGIN:VTIMEZONE
TZID:Europe/Paris
BEGIN:DAYLIGHT
TZOFFSETFROM:+0100
TZOFFSETTO:+0200
TZNAME:CEST
DTSTART:20250330T010000
END:DAYLIGHT
BEGIN:STANDARD
TZOFFSETFROM:+0200
TZOFFSETTO:+0100
TZNAME:CET
DTSTART:20251026T010000
END:STANDARD
BEGIN:DAYLIGHT
TZOFFSETFROM:+0100
TZOFFSETTO:+0200
TZNAME:CEST
DTSTART:20260329T010000
END:DAYLIGHT
BEGIN:STANDARD
TZOFFSETFROM:+0200
TZOFFSETTO:+0100
TZNAME:CET
DTSTART:20261025T010000
END:STANDARD
BEGIN:DAYLIGHT
TZOFFSETFROM:+0100
TZOFFSETTO:+0200
TZNAME:CEST
DTSTART:20270328T010000
END:DAYLIGHT
BEGIN:STANDARD
TZOFFSETFROM:+0200
TZOFFSETTO:+0100
TZNAME:CET
DTSTART:20271031T010000
END:STANDARD
END:VTIMEZONE
BEGIN:VTIMEZONE
TZID:UTC
BEGIN:STANDARD
TZOFFSETFROM:+0000
TZOFFSETTO:+0000
TZNAME:UTC
DTSTART:20250101T000000
END:STANDARD
END:VTIMEZONE
BEGIN:VEVENT
DTSTART;TZID=Europe/Paris:20260414T090000
DTEND;TZID=Europe/Paris:20260414T133000
DTSTAMP:20260421T020907
CREATED:20251211T143753Z
LAST-MODIFIED:20260317T120742Z
UID:216-1776157200-1776173400@daar-brandt-nog-licht.nl
SUMMARY:Energie Symposium Brabant - De verbinding tussen energie\, circulariteit en leren
DESCRIPTION:Energie Symposium Brabant\nDe verbinding tussen energie\, circulariteit en leren\nGraag nodigen wij je uit voor het gezamenlijke evenement van Daar brandt nog licht & Brabant Leert Transitiehubs Energie. Op dinsdagochtend 14 april 2026 brengen we onderwijs\, bedrijfsleven en overheid samen rondom één gedeelde ambitie: het versnellen van de energietransitie door vakmanschap\, innovatie en samenwerking. \nTijdens deze inspirerende ochtend hoor je hoe we in Brabant werken aan toekomstbestendige oplossingen\, met bijdragen van Hoppenbrouwers en een keynote van Bas Warmerdam. Daarnaast is er volop ruimte om kennis te delen\, mee te denken en te netwerken. \nOver Bas Warmerdam \nBas Warmerdam is een spreker en organisatieadviseur die professionals helpt om anders te denken door te leren “denken als een kind”. Hij werkt met organisaties over de hele wereld en geeft inspirerende presentaties en workshops vol humor en praktische voorbeelden. Bas schreef het boek ‘Kleine consultants’ en richtte tien jaar geleden ConsultingKids op\, een initiatief dat creatief denken stimuleert. Zijn methode helpt teams en leiders om complexe problemen eenvoudiger en met meer plezier aan te pakken. \nProgramma \n08:30 – 09:00 Inloop\n09:00 – 09:15 Welkom door de programmamanagers\n09:15 – 09:45 Introductie door Hoppenbrouwers\n09:45 – 10:00 Koffiepauze met iets lekkers\n10:00 – 11:15 Keynote Bas Warmerdam\n11:15 – 12:15 Breakoutsessies Switch City\, Statushoudertraject KW1C & Heijmans en Batterijbox\n12:15 – 13:30 Netwerklunch \nSchakel JavaScript in je browser in om dit formulier in te vullen.Schakel JavaScript in je browser in om dit formulier in te vullen.Naam *VoornaamAchternaamEmail *		\n			Heb Ik je\n			\n		\n		OrganisatieIk meld me aan voor 14 aprilJa\, met lunchJa\, zonder lunchHeb je dieetwensen?Ik wil me aanmelden voor de nieuwsbrief vanDaar brandt nog lichtBrabant Leert Transitiehubs Energie & Learning FactoryVerzenden
URL:https://daar-brandt-nog-licht.nl/event/daar-brandt-nog-licht-x-brabant-leert-transitiehubs-energie-en-learning-factory/
LOCATION:Hoppenbrouwers\, ‘s-Hertogenbosch\, Aziëlaan 12\, Den Bosch\, 5232BA\, Netherlands
END:VEVENT
BEGIN:VEVENT
DTSTART;TZID=UTC:20260519T130000
DTEND;TZID=UTC:20260519T160000
DTSTAMP:20260421T020907
CREATED:20260327T090820Z
LAST-MODIFIED:20260327T090820Z
UID:423-1779195600-1779206400@daar-brandt-nog-licht.nl
SUMMARY:AI Inspiratiesessie bij Hoppenbrouwers
DESCRIPTION:Kom naar onze inspiratiesessie en ontdek: \nDe installateur van de toekomst staat midden in een wereld die snel verandert. Verscherpte wet- en regelgeving en de voortdurende verduurzamingsslag vragen om nieuwe kennis\, nieuwe vaardigheden en slimme oplossingen. \nHoppenbrouwers neemt je mee in deze transitie: als partner die laat zien hoe innovatieve technieken en doordachte keuzes bijdragen aan een duurzame leefomgeving. Met duidelijke duurzaamheidsambities en een vooruitstrevende blik beweegt Hoppenbrouwers mee in een dynamische energiewereld. Dit helpt installateurs klaar te staan voor de wereld van morgen! \nDoe mee\, laat je inspireren en praat mee over deze onderwerpen! \nWees er snel bij: vol = vol! Er zijn slechts 20 plekken beschikbaar. \nSchakel JavaScript in je browser in om dit formulier in te vullen.Schakel JavaScript in je browser in om dit formulier in te vullen.Naam *VoornaamAchternaam		\n			Daar de Email\n			\n		\n		Email *Organisatie *Ik meld me aan voor de nieuwsbrief van Daar brandt nog lichtJaAanmelden
URL:https://daar-brandt-nog-licht.nl/event/ai-inspiratiesessie-bij-hoppenbrouwers/
LOCATION:Hoppenbrouwers\,  Udenhout\, Handelsweg 5\, Udenhout\, 5071NT\, Netherlands
END:VEVENT
BEGIN:VEVENT
DTSTART;TZID=UTC:20260520T000000
DTEND;TZID=UTC:20260521T235959
DTSTAMP:20260421T020907
CREATED:20260114T081949Z
LAST-MODIFIED:20260114T090139Z
UID:373-1779235200-1779407999@daar-brandt-nog-licht.nl
SUMMARY:De Kracht van Ondergrondse Infra
DESCRIPTION:Een unieke dag vol actie\, techniek en toekomst!\nMaak je klaar voor de allereerste editie van de Mission Underground – onderdeel van het InfraNXT-event. Dé plek waar je oplossingen vindt voor de maatschappelijke vraagstukken over de energie- en watertransitie. \n\nOp woensdag 20 en donderdag 21 mei 2026\nDe locatie is het iconische Klokgebouw in Eindhoven – een inspirerende\, centrale plek met industriële uitstraling.\n\nDe wereld onder je voeten in beeld\nEen actieve en leerzame dag waarin je ontdekt hoe belangrijk de ondergrondse infrastructuur is voor actuele uitdagingen zoals netcongestie\, energietransitie en waterbeheer.\nOntdek wat er onder onze voeten ligt – van gas-\, water- en warmteleidingen tot elektriciteitsnetten – én wat voor werk daarbij komt kijken. \nInteractieve demonstraties en kennissessies \nOnze vakspecialisten nemen je mee in de wereld van de ondergrondse infra. Met praktijkgerichte sessies en activiteiten staan techniek\, samenwerking en inzicht centraal. Leer\, beleef en word geïnspireerd! \nGoed geregeld!\nIedereen wordt gratis met de bus opgehaald en teruggebracht\, ontvangt na afloop iets te eten en drinken\, én kan vrij rondkijken op het volledige InfraNXT event. \nGa voor vragen of om je school aan te melden naar http://www.infranxt-event.nl Of bel met Joanneke Buizer – 06-51622306
URL:https://daar-brandt-nog-licht.nl/event/de-kracht-van-ondergrondse-infra/
LOCATION:Klokgebouw\, Eindhoven
END:VEVENT
END:VCALENDAR